Workbook

Sheet RENSEIGNEMENTS (à remplir)
B2: Noms des équipes
B3: A | G3: A remplir
B4: B
B5: C
B6: D
B7: E
B8: F
B10: Heure de début | D10: 0 | E10: A remplir
B11: Durée d'un match | D11: 0
B12: Temps de pause | D12: 0
B14: Ce document est là pour vous guider et faciliter l’organisation du plateau. Il ne doit pas être vu comme une contrainte rigide mais comme un appui. En cas d’imprévu ou de situation non prévue, n’hésitez pas à adapter : l’essentiel est que les enfants passent le plus de temps possible à jouer, découvrir et partager avec et contre les autres.

Sheet 3 équipes (Aller-Retour)
A1: Ordre des matchs | B1: Horaires | C1: Terrain | D1: Equipes
A2: 1 | B2: =G2 -> 0 | C2: 1 | D2: A | E2: ='RENSEIGNEMENTS (à remplir)'!C3 -> 0 | G2: ='RENSEIGNEMENTS (à remplir)'!D10 -> 0 | H2: Heure de début
D3: B | E3: ='RENSEIGNEMENTS (à remplir)'!C4 -> 0 | G3: ='RENSEIGNEMENTS (à remplir)'!D11 -> 0 | H3: Durée du match
A4: 2 | B4: =G2+G3+G4 -> 0 | C4: 1 | D4: B | E4: ='RENSEIGNEMENTS (à remplir)'!C4 -> 0 | G4: ='RENSEIGNEMENTS (à remplir)'!D12 -> 0 | H4: Temps de pause
D5: C | E5: ='RENSEIGNEMENTS (à remplir)'!C5 -> 0 | G5: 4 | H5: Nombre de match par équipe
A6: 3 | B6: =B4+G3+G4 -> 0 | C6: 1 | D6: A | E6: ='RENSEIGNEMENTS (à remplir)'!C3 -> 0 | G6: =G5*G3 -> 0 | H6: Temps de jeu par équipe
D7: C | E7: ='RENSEIGNEMENTS (à remplir)'!C5 -> 0 | G7: =G2+6*(G3+G4) -> 0 | H7: Heure de fin
A8: 4 | B8: =B6+G3+G4 -> 0 | C8: 1 | D8: A | E8: ='RENSEIGNEMENTS (à remplir)'!C3 -> 0
D9: B | E9: ='RENSEIGNEMENTS (à remplir)'!C4 -> 0
A10: 5 | B10: =B8+G3+G4 -> 0 | C10: 1 | D10: B | E10: ='RENSEIGNEMENTS (à remplir)'!C4 -> 0
D11: C | E11: ='RENSEIGNEMENTS (à remplir)'!C5 -> 0
A12: 6 | B12: =B10+G3+G4 -> 0 | C12: 1 | D12: A | E12: ='RENSEIGNEMENTS (à remplir)'!C3 -> 0
D13: C | E13: ='RENSEIGNEMENTS (à remplir)'!C5 -> 0

Sheet 4 équipes (Aller-Simple)
A1: Ordre des matchs | B1: Horaires | C1: Terrain | D1: Equipes
A2: 1 | B2: =G2 -> 0 | C2: 1 | D2: A | E2: ='RENSEIGNEMENTS (à remplir)'!C3 -> 0 | G2: ='RENSEIGNEMENTS (à remplir)'!D10 -> 0 | H2: Heure de début
D3: B | E3: ='RENSEIGNEMENTS (à remplir)'!C4 -> 0 | G3: ='RENSEIGNEMENTS (à remplir)'!D11 -> 0 | H3: Durée du match
C4: 2 | D4: C | E4: ='RENSEIGNEMENTS (à remplir)'!C5 -> 0 | G4: ='RENSEIGNEMENTS (à remplir)'!D12 -> 0 | H4: Temps de pause
D5: D | E5: ='RENSEIGNEMENTS (à remplir)'!C6 -> 0 | G5: 3 | H5: Nombre de match par équipe
A6: 2 | B6: =B2+G3+G4 -> 0 | C6: 1 | D6: A | E6: ='RENSEIGNEMENTS (à remplir)'!C3 -> 0 | G6: =G5*G3 -> 0 | H6: Temps de jeu par équipe
D7: C | E7: ='RENSEIGNEMENTS (à remplir)'!C5 -> 0 | G7: =G2+3*(G3+G4) -> 0 | H7: Heure de fin
C8: 2 | D8: B | E8: ='RENSEIGNEMENTS (à remplir)'!C4 -> 0
D9: D | E9: ='RENSEIGNEMENTS (à remplir)'!C6 -> 0
A10: 3 | B10: =B6+G3+G4 -> 0 | C10: 1 | D10: A | E10: ='RENSEIGNEMENTS (à remplir)'!C3 -> 0
D11: D | E11: ='RENSEIGNEMENTS (à remplir)'!C6 -> 0
C12: 2 | D12: B | E12: ='RENSEIGNEMENTS (à remplir)'!C4 -> 0
D13: C | E13: ='RENSEIGNEMENTS (à remplir)'!C5 -> 0

Sheet 4 équipes (Aller-Retour)
A1: Ordre des matchs | B1: Horaires | C1: Terrain | D1: Equipes
A2: 1 | B2: =G2 -> 0 | C2: 1 | D2: A | E2: ='RENSEIGNEMENTS (à remplir)'!C3 -> 0 | G2: ='RENSEIGNEMENTS (à remplir)'!D10 -> 0 | H2: Heure de début
D3: B | E3: ='RENSEIGNEMENTS (à remplir)'!C4 -> 0 | G3: ='RENSEIGNEMENTS (à remplir)'!D11 -> 0 | H3: Durée du match
C4: 2 | D4: C | E4: ='RENSEIGNEMENTS (à remplir)'!C5 -> 0 | G4: ='RENSEIGNEMENTS (à remplir)'!D12 -> 0 | H4: Temps de pause
D5: D | E5: ='RENSEIGNEMENTS (à remplir)'!C6 -> 0 | G5: 6 | H5: Nombre de match par équipe
A6: 2 | B6: =B2+G3+G4 -> 0 | C6: 1 | D6: A | E6: ='RENSEIGNEMENTS (à remplir)'!C3 -> 0 | G6: =G5*G3 -> 0 | H6: Temps de jeu par équipe
D7: C | E7: ='RENSEIGNEMENTS (à remplir)'!C5 -> 0 | G7: =G2+6*(G3+G4) -> 0 | H7: Heure de fin
C8: 2 | D8: B | E8: ='RENSEIGNEMENTS (à remplir)'!C4 -> 0
D9: D | E9: ='RENSEIGNEMENTS (à remplir)'!C6 -> 0
A10: 3 | B10: =B6+G3+G4 -> 0 | C10: 1 | D10: A | E10: ='RENSEIGNEMENTS (à remplir)'!C3 -> 0
D11: D | E11: ='RENSEIGNEMENTS (à remplir)'!C6 -> 0
C12: 2 | D12: B | E12: ='RENSEIGNEMENTS (à remplir)'!C4 -> 0
D13: C | E13: ='RENSEIGNEMENTS (à remplir)'!C5 -> 0
A14: 4 | B14: =B10+G3+G4 -> 0 | C14: 1 | D14: A | E14: ='RENSEIGNEMENTS (à remplir)'!C3 -> 0
C15: 1.8 | D15: B | E15: ='RENSEIGNEMENTS (à remplir)'!C4 -> 0
C16: 2 | D16: C | E16: ='RENSEIGNEMENTS (à remplir)'!C5 -> 0
C17: 1.8857143 | D17: D | E17: ='RENSEIGNEMENTS (à remplir)'!C6 -> 0
A18: 5 | B18: =B14+G3+G4 -> 0 | C18: 1 | D18: A | E18: ='RENSEIGNEMENTS (à remplir)'!C3 -> 0
C19: 1.9714286 | D19: C | E19: ='RENSEIGNEMENTS (à remplir)'!C5 -> 0
C20: 2 | D20: B | E20: ='RENSEIGNEMENTS (à remplir)'!C4 -> 0
C21: 2.0571429 | D21: D | E21: ='RENSEIGNEMENTS (à remplir)'!C6 -> 0
A22: 6 | B22: =B18+G3+G4 -> 0 | C22: 1 | D22: A | E22: ='RENSEIGNEMENTS (à remplir)'!C3 -> 0
C23: 2.1428571 | D23: D | E23: ='RENSEIGNEMENTS (à remplir)'!C6 -> 0
C24: 2 | D24: B | E24: ='RENSEIGNEMENTS (à remplir)'!C4 -> 0
D25: C | E25: ='RENSEIGNEMENTS (à remplir)'!C5 -> 0

Sheet 5 équipes (2 terrains)
A1: Ordre des matchs | B1: Horaires | C1: Terrain | D1: Equipes
A2: 1 | B2: =G2 -> 0 | C2: 1 | D2: A | E2: ='RENSEIGNEMENTS (à remplir)'!C3 -> 0 | G2: ='RENSEIGNEMENTS (à remplir)'!D10 -> 0 | H2: Heure de début
D3: B | E3: ='RENSEIGNEMENTS (à remplir)'!C4 -> 0 | G3: ='RENSEIGNEMENTS (à remplir)'!D11 -> 0 | H3: Durée du match
C4: 2 | D4: C | E4: ='RENSEIGNEMENTS (à remplir)'!C5 -> 0 | G4: ='RENSEIGNEMENTS (à remplir)'!D12 -> 0 | H4: Temps de pause
D5: D | E5: ='RENSEIGNEMENTS (à remplir)'!C6 -> 0 | G5: 4 | H5: Nombre de match par équipe
A6: 2 | B6: =B2+G3+G4 -> 0 | C6: 1 | D6: A | E6: ='RENSEIGNEMENTS (à remplir)'!C3 -> 0 | G6: =G5*G3 -> 0 | H6: Temps de jeu par équipe
D7: C | E7: ='RENSEIGNEMENTS (à remplir)'!C5 -> 0 | G7: =G2+5*(G3+G4) -> 0 | H7: Heure de fin
C8: 2 | D8: B | E8: ='RENSEIGNEMENTS (à remplir)'!C4 -> 0
D9: E | E9: ='RENSEIGNEMENTS (à remplir)'!C7 -> 0
A10: 3 | B10: =B6+G3+G4 -> 0 | C10: 1 | D10: A | E10: ='RENSEIGNEMENTS (à remplir)'!C3 -> 0
D11: D | E11: ='RENSEIGNEMENTS (à remplir)'!C6 -> 0
C12: 2 | D12: C | E12: ='RENSEIGNEMENTS (à remplir)'!C5 -> 0
D13: E | E13: ='RENSEIGNEMENTS (à remplir)'!C7 -> 0
A14: 4 | B14: =B10+G3+G4 -> 0 | C14: 1 | D14: A | E14: ='RENSEIGNEMENTS (à remplir)'!C3 -> 0
C15: 1.8 | D15: E | E15: ='RENSEIGNEMENTS (à remplir)'!C7 -> 0
C16: 2 | D16: B | E16: ='RENSEIGNEMENTS (à remplir)'!C4 -> 0
C17: 1.8857143 | D17: D | E17: ='RENSEIGNEMENTS (à remplir)'!C6 -> 0
A18: 5 | B18: =B14+G3+G4 -> 0 | C18: 1 | D18: B | E18: ='RENSEIGNEMENTS (à remplir)'!C4 -> 0
C19: 1.9714286 | D19: C | E19: ='RENSEIGNEMENTS (à remplir)'!C5 -> 0
C20: 2 | D20: D | E20: ='RENSEIGNEMENTS (à remplir)'!C6 -> 0
C21: 2.0571429 | D21: E | E21: ='RENSEIGNEMENTS (à remplir)'!C7 -> 0

Sheet 6 équipes (2 terrains)
A1: Ordre des matchs | B1: Horaires | C1: Terrain | D1: Equipes
A2: 1 | B2: =G2 -> 0 | C2: 1 | D2: A | E2: ='RENSEIGNEMENTS (à remplir)'!C3 -> 0 | G2: ='RENSEIGNEMENTS (à remplir)'!D10 -> 0 | H2: Heure de début
D3: B | E3: ='RENSEIGNEMENTS (à remplir)'!C4 -> 0 | G3: ='RENSEIGNEMENTS (à remplir)'!D11 -> 0 | H3: Durée du match
C4: 2 | D4: C | E4: ='RENSEIGNEMENTS (à remplir)'!C5 -> 0 | G4: ='RENSEIGNEMENTS (à remplir)'!D12 -> 0 | H4: Temps de pause
D5: D | E5: ='RENSEIGNEMENTS (à remplir)'!C6 -> 0 | G5: 5 | H5: Nombre de match par équipe
A6: 2 | B6: =B2+G3+G4 -> 0 | C6: 1 | D6: E | E6: ='RENSEIGNEMENTS (à remplir)'!C7 -> 0 | G6: =G5*G3 -> 0 | H6: Temps de jeu par équipe
D7: F | E7: ='RENSEIGNEMENTS (à remplir)'!C8 -> 0 | G7: =G2+8*(G3+G4) -> 0 | H7: Heure de fin
C8: 2 | D8: A | E8: ='RENSEIGNEMENTS (à remplir)'!C3 -> 0
D9: C | E9: ='RENSEIGNEMENTS (à remplir)'!C5 -> 0
A10: 3 | B10: =B6+G3+G4 -> 0 | C10: 1 | D10: B | E10: ='RENSEIGNEMENTS (à remplir)'!C4 -> 0
D11: E | E11: ='RENSEIGNEMENTS (à remplir)'!C7 -> 0
C12: 2 | D12: D | E12: ='RENSEIGNEMENTS (à remplir)'!C6 -> 0
D13: F | E13: ='RENSEIGNEMENTS (à remplir)'!C8 -> 0
A14: 4 | B14: =B10+G3+G4 -> 0 | C14: 1 | D14: A | E14: ='RENSEIGNEMENTS (à remplir)'!C3 -> 0
C15: 1.8 | D15: D | E15: ='RENSEIGNEMENTS (à remplir)'!C6 -> 0
C16: 2 | D16: B | E16: ='RENSEIGNEMENTS (à remplir)'!C4 -> 0
C17: 1.8857143 | D17: F | E17: ='RENSEIGNEMENTS (à remplir)'!C8 -> 0
A18: 5 | B18: =B14+G3+G4 -> 0 | C18: 1 | D18: C | E18: ='RENSEIGNEMENTS (à remplir)'!C5 -> 0
C19: 1.9714286 | D19: E | E19: ='RENSEIGNEMENTS (à remplir)'!C7 -> 0
C20: 2 | D20: B | E20: ='RENSEIGNEMENTS (à remplir)'!C4 -> 0
C21: 2.0571429 | D21: D | E21: ='RENSEIGNEMENTS (à remplir)'!C6 -> 0
A22: 6 | B22: =B18+G3+G4 -> 0 | C22: 1 | D22: A | E22: ='RENSEIGNEMENTS (à remplir)'!C3 -> 0
C23: 2.1428571 | D23: E | E23: ='RENSEIGNEMENTS (à remplir)'!C7 -> 0
C24: 2 | D24: C | E24: ='RENSEIGNEMENTS (à remplir)'!C5 -> 0
D25: F | E25: ='RENSEIGNEMENTS (à remplir)'!C8 -> 0
A26: 7 | B26: =B22+G3+G4 -> 0 | C26: 1 | D26: A | E26: ='RENSEIGNEMENTS (à remplir)'!C3 -> 0
C27: 3.2142857 | D27: F | E27: ='RENSEIGNEMENTS (à remplir)'!C8 -> 0
C28: 2 | D28: B | E28: ='RENSEIGNEMENTS (à remplir)'!C4 -> 0
D29: C | E29: ='RENSEIGNEMENTS (à remplir)'!C5 -> 0
A30: 8 | B30: =B26+G3+G4 -> 0 | C30: 1 | D30: D | E30: ='RENSEIGNEMENTS (à remplir)'!C6 -> 0
C31: 4.4285714 | D31: E | E31: ='RENSEIGNEMENTS (à remplir)'!C7 -> 0

Sheet 6 équipes (3 terrains)
A1: Ordre des matchs | B1: Horaires | C1: Terrain | D1: Equipes
A2: 1 | B2: =G2 -> 0 | C2: 1 | D2: A | E2: ='RENSEIGNEMENTS (à remplir)'!C3 -> 0 | G2: ='RENSEIGNEMENTS (à remplir)'!D10 -> 0 | H2: Heure de début
D3: B | E3: ='RENSEIGNEMENTS (à remplir)'!C4 -> 0 | G3: ='RENSEIGNEMENTS (à remplir)'!D11 -> 0 | H3: Durée du match
C4: 2 | D4: C | E4: ='RENSEIGNEMENTS (à remplir)'!C5 -> 0 | G4: ='RENSEIGNEMENTS (à remplir)'!D12 -> 0 | H4: Temps de pause
D5: D | E5: ='RENSEIGNEMENTS (à remplir)'!C6 -> 0 | G5: 5 | H5: Nombre de match par équipe
C6: 3 | D6: E | E6: ='RENSEIGNEMENTS (à remplir)'!C7 -> 0 | G6: =G5*G3 -> 0 | H6: Temps de jeu par équipe
D7: F | E7: ='RENSEIGNEMENTS (à remplir)'!C8 -> 0 | G7: =G2+8*(G3+G4) -> 0 | H7: Heure de fin
A8: 2 | B8: =B2+G$3+G$4 -> 0 | C8: 1 | D8: A | E8: ='RENSEIGNEMENTS (à remplir)'!C3 -> 0
D9: C | E9: ='RENSEIGNEMENTS (à remplir)'!C5 -> 0
C10: 2 | D10: B | E10: ='RENSEIGNEMENTS (à remplir)'!C4 -> 0
D11: E | E11: ='RENSEIGNEMENTS (à remplir)'!C7 -> 0
C12: 3 | D12: D | E12: ='RENSEIGNEMENTS (à remplir)'!C6 -> 0
D13: F | E13: ='RENSEIGNEMENTS (à remplir)'!C8 -> 0
A14: 3 | B14: =B8+G$3+G$4 -> 0 | C14: 1 | D14: A | E14: ='RENSEIGNEMENTS (à remplir)'!C3 -> 0
D15: D | E15: ='RENSEIGNEMENTS (à remplir)'!C6 -> 0
C16: 2 | D16: B | E16: ='RENSEIGNEMENTS (à remplir)'!C4 -> 0
D17: F | E17: ='RENSEIGNEMENTS (à remplir)'!C8 -> 0
C18: 3 | D18: C | E18: ='RENSEIGNEMENTS (à remplir)'!C5 -> 0
D19: E | E19: ='RENSEIGNEMENTS (à remplir)'!C7 -> 0
A20: 4 | B20: =B14+G$3+G$4 -> 0 | C20: 1 | D20: A | E20: ='RENSEIGNEMENTS (à remplir)'!C3 -> 0
D21: E | E21: ='RENSEIGNEMENTS (à remplir)'!C7 -> 0
C22: 2 | D22: B | E22: ='RENSEIGNEMENTS (à remplir)'!C4 -> 0
D23: D | E23: ='RENSEIGNEMENTS (à remplir)'!C6 -> 0
C24: 3 | D24: C | E24: ='RENSEIGNEMENTS (à remplir)'!C5 -> 0
D25: F | E25: ='RENSEIGNEMENTS (à remplir)'!C8 -> 0
A26: 5 | B26: =B20+G$3+G$4 -> 0 | C26: 1 | D26: A | E26: ='RENSEIGNEMENTS (à remplir)'!C3 -> 0
C27: 2.8 | D27: F | E27: ='RENSEIGNEMENTS (à remplir)'!C8 -> 0
C28: 2 | D28: B | E28: ='RENSEIGNEMENTS (à remplir)'!C4 -> 0
C29: 3.0285714 | D29: C | E29: ='RENSEIGNEMENTS (à remplir)'!C5 -> 0
C30: 3 | D30: D | E30: ='RENSEIGNEMENTS (à remplir)'!C6 -> 0
C31: 3.2571429 | D31: E | E31: ='RENSEIGNEMENTS (à remplir)'!C7 -> 0
